BEGIN:VCALENDAR
PRODID:-//SINGPromos.com//NONSGML v1.0//EN
VERSION:2.0
CALSCALE:GREGORIAN
METHOD:PUBLISH
X-WR-CALNAME:SINGPromos.com
X-ORIGINAL-URL:https://singpromos.com
X-WR-CALDESC:Events for SINGPromos.com
BEGIN:VEVENT
DTSTART:20260423T000000
DTEND:20260429T235900
DTSTAMP:20260424T003015
CREATED:20260423T145228
LAST-MODIFIED:20260423T180945
UID:301937@https://singpromos.com
SUMMARY:Giant S'pore Super Savings Has Ben & Jerry's 2-for-$19.90 & 50% Off Vanish Deals until 29 Apr 2026
DESCRIPTION:Big grocery savings with ice cream, snacks and household essentials at great discounts. For more information, visit [ https://singpromos.com/dining-restaurants-food/giant-spore-super-savings-has-ben-jerrys-2-for-19-90-50-off-vanish-deals-until-29-apr-2026-301937/ ]. 
LOCATION:
URL:https://singpromos.com/dining-restaurants-food/giant-spore-super-savings-has-ben-jerrys-2-for-19-90-50-off-vanish-deals-until-29-apr-2026-301937/
END:VEVENT
END:VCALENDAR