BEGIN:VCALENDAR
PRODID:-//SINGPromos.com//NONSGML v1.0//EN
VERSION:2.0
CALSCALE:GREGORIAN
METHOD:PUBLISH
X-WR-CALNAME:SINGPromos.com
X-ORIGINAL-URL:https://singpromos.com
X-WR-CALDESC:Events for SINGPromos.com
BEGIN:VEVENT
DTSTART:20120421T000000
DTEND:20120427T235900
DTSTAMP:20260420T214023
CREATED:20120422T011323
LAST-MODIFIED:20120424T011815
UID:30297@https://singpromos.com
SUMMARY:Harvey Norman Furniture, Appliances & Electronics Promotion Offers 21 - 27 April 2012
DESCRIPTION:Harvey Norman continues their "Great Style Great Value Earth Has To Offer" promotion. Receive a free pair of Men In Black 3 Movie Tickets with any TV or Notebook purchased. For more information, visit [ https://singpromos.com/computers-pc/harvey-norman-furniture-appliances-electronics-promotion-offers-21-27-april-2012-30297/ ]. 
LOCATION:
URL:https://singpromos.com/computers-pc/harvey-norman-furniture-appliances-electronics-promotion-offers-21-27-april-2012-30297/
END:VEVENT
END:VCALENDAR