BEGIN:VCALENDAR
PRODID:-//SINGPromos.com//NONSGML v1.0//EN
VERSION:2.0
CALSCALE:GREGORIAN
METHOD:PUBLISH
X-WR-CALNAME:SINGPromos.com
X-ORIGINAL-URL:https://singpromos.com
X-WR-CALDESC:Events for SINGPromos.com
BEGIN:VEVENT
DTSTART:20120424T000000
DTEND:20120428T235900
DTSTAMP:20260420T214023
CREATED:20120424T194043
LAST-MODIFIED:20120424T194043
UID:30363@https://singpromos.com
SUMMARY:Expedia Singapore Sale Up To 50% Off Japan Hotels 24 - 28 Apr 2012
DESCRIPTION:Expedia Singapore says hello to summer with a 5-day Japan Hotel Sale from 24 April to 28 April 2012. Enjoy up to 50% savings on your hotel stay when you book now. For more information, visit [ https://singpromos.com/vacations/expedia-singapore-sale-up-to-50-off-japan-hotels-24-28-apr-2012-30363/ ]. 
LOCATION:
URL:https://singpromos.com/vacations/expedia-singapore-sale-up-to-50-off-japan-hotels-24-28-apr-2012-30363/
END:VEVENT
END:VCALENDAR