BEGIN:VCALENDAR
PRODID:-//SINGPromos.com//NONSGML v1.0//EN
VERSION:2.0
CALSCALE:GREGORIAN
METHOD:PUBLISH
X-WR-CALNAME:SINGPromos.com
X-ORIGINAL-URL:https://singpromos.com
X-WR-CALDESC:Events for SINGPromos.com
BEGIN:VEVENT
DTSTART:20120427T000000
DTEND:20120501T235900
DTSTAMP:20260422T082110
CREATED:20120427T133247
LAST-MODIFIED:20120502T121548
UID:30677@https://singpromos.com
SUMMARY:Secret Recipe 45% Off Mains, Desserts & Drinks 27 Apr 2012
DESCRIPTION:Dine at Secret Recipe at almost half price off with this deal: $22 for $40 worth of Mains, Desserts and Drinks in six locations - that's 45% off the usual price! Learn how to get this deal before it ends soon . For more information, visit [ https://singpromos.com/dining-restaurants-food/secret-recipe-45-off-mains-desserts-drinks-27-apr-2012-30677/ ]. 
LOCATION:
URL:https://singpromos.com/dining-restaurants-food/secret-recipe-45-off-mains-desserts-drinks-27-apr-2012-30677/
END:VEVENT
END:VCALENDAR