BEGIN:VCALENDAR
PRODID:-//SINGPromos.com//NONSGML v1.0//EN
VERSION:2.0
CALSCALE:GREGORIAN
METHOD:PUBLISH
X-WR-CALNAME:SINGPromos.com
X-ORIGINAL-URL:https://singpromos.com
X-WR-CALDESC:Events for SINGPromos.com
BEGIN:VEVENT
DTSTART:20120428T000000
DTEND:20120504T235900
DTSTAMP:20260420T214040
CREATED:20120428T200837
LAST-MODIFIED:20120428T204354
UID:30918@https://singpromos.com
SUMMARY:Harvey Norman Appliances, Mattress & Recliner Offers 28 Apr 2012
DESCRIPTION:Enjoy Scandinavian design and comfort with Harvey Norman's IMG Norway recliner offers. Linden mattress is also going on special offer. For more information, visit [ https://singpromos.com/furniture/harvey-norman-appliances-mattress-recliner-offers-28-apr-2012-30918/ ]. 
LOCATION:
URL:https://singpromos.com/furniture/harvey-norman-appliances-mattress-recliner-offers-28-apr-2012-30918/
END:VEVENT
END:VCALENDAR