BEGIN:VCALENDAR
PRODID:-//SINGPromos.com//NONSGML v1.0//EN
VERSION:2.0
CALSCALE:GREGORIAN
METHOD:PUBLISH
X-WR-CALNAME:SINGPromos.com
X-ORIGINAL-URL:https://singpromos.com
X-WR-CALDESC:Events for SINGPromos.com
BEGIN:VEVENT
DTSTART:20120429T000000
DTEND:20120506T235900
DTSTAMP:20260422T082134
CREATED:20120429T230051
LAST-MODIFIED:20120430T020859
UID:30973@https://singpromos.com
SUMMARY:Zalora 50% Off Accessories Promotion 29 Apr - 6 May 2012
DESCRIPTION:Zalora one of the top destinations for fashion and footwear which brings you a Singaporean lens on global trends is now having a 50% off accessories promotion!. For more information, visit [ https://singpromos.com/fashion-accessories/zalora-50-off-accessories-promotion-29-apr-6-may-2012-30973/ ]. 
LOCATION:
URL:https://singpromos.com/fashion-accessories/zalora-50-off-accessories-promotion-29-apr-6-may-2012-30973/
END:VEVENT
END:VCALENDAR