BEGIN:VCALENDAR
PRODID:-//SINGPromos.com//NONSGML v1.0//EN
VERSION:2.0
CALSCALE:GREGORIAN
METHOD:PUBLISH
X-WR-CALNAME:SINGPromos.com
X-ORIGINAL-URL:https://singpromos.com
X-WR-CALDESC:Events for SINGPromos.com
BEGIN:VEVENT
DTSTART:20120501T000000
DTEND:20120531T235900
DTSTAMP:20260422T082136
CREATED:20120502T193320
LAST-MODIFIED:20120502T193320
UID:31098@https://singpromos.com
SUMMARY:MPH Bookstore Saturdays 20% Off All Books @ Robinson 1 - 31 May 2012
DESCRIPTION:MPH is having a Super Saturday 20% off all books sale at MPH Robinson Road till 31 May 2012 on Saturdays only.. For more information, visit [ https://singpromos.com/books/mph-bookstore-saturdays-20-off-all-books-robinson-1-31-may-2012-31098/ ]. 
LOCATION:63 Robinson Road, 068894
URL:https://singpromos.com/books/mph-bookstore-saturdays-20-off-all-books-robinson-1-31-may-2012-31098/
END:VEVENT
END:VCALENDAR