BEGIN:VCALENDAR
PRODID:-//SINGPromos.com//NONSGML v1.0//EN
VERSION:2.0
CALSCALE:GREGORIAN
METHOD:PUBLISH
X-WR-CALNAME:SINGPromos.com
X-ORIGINAL-URL:https://singpromos.com
X-WR-CALDESC:Events for SINGPromos.com
BEGIN:VEVENT
DTSTART:20120504T000000
DTEND:20120506T235900
DTSTAMP:20260422T082111
CREATED:20120503T181453
LAST-MODIFIED:20120503T181453
UID:31207@https://singpromos.com
SUMMARY:F3 Fashion Bazaar Up To 80% Off @ *Scape 4 - 6 May 2012
DESCRIPTION:F3 Fashion Fast Forward will be having a Fashion Bazaar with up to 80% off all apparels & accessories from 4 May to 6 May 2012 at *Scape Warehouse Auditorium. . For more information, visit [ https://singpromos.com/fashion-accessories/f3-fashion-bazaar-up-to-80-off-scape-4-6-may-2012-31207/ ]. 
LOCATION:
URL:https://singpromos.com/fashion-accessories/f3-fashion-bazaar-up-to-80-off-scape-4-6-may-2012-31207/
END:VEVENT
END:VCALENDAR