BEGIN:VCALENDAR
PRODID:-//SINGPromos.com//NONSGML v1.0//EN
VERSION:2.0
CALSCALE:GREGORIAN
METHOD:PUBLISH
X-WR-CALNAME:SINGPromos.com
X-ORIGINAL-URL:https://singpromos.com
X-WR-CALDESC:Events for SINGPromos.com
BEGIN:VEVENT
DTSTART:20120504T000000
DTEND:20120504T235900
DTSTAMP:20260420T214023
CREATED:20120504T145458
LAST-MODIFIED:20120504T145736
UID:31292@https://singpromos.com
SUMMARY:Zuji Singapore 10% Off Hotels Coupon Code One Day Only 4 May 2012
DESCRIPTION:Enjoy an additional 10% off all hotels for ONE DAY only on 4 May 2012 at www.zuji.com.sg. Minimum $400 spend required.. For more information, visit [ https://singpromos.com/airlines-flights/zuji-singapore-10-off-hotels-coupon-code-one-day-only-4-may-2012-31292/ ]. 
LOCATION:
URL:https://singpromos.com/airlines-flights/zuji-singapore-10-off-hotels-coupon-code-one-day-only-4-may-2012-31292/
END:VEVENT
END:VCALENDAR