BEGIN:VCALENDAR
PRODID:-//SINGPromos.com//NONSGML v1.0//EN
VERSION:2.0
CALSCALE:GREGORIAN
METHOD:PUBLISH
X-WR-CALNAME:SINGPromos.com
X-ORIGINAL-URL:https://singpromos.com
X-WR-CALDESC:Events for SINGPromos.com
BEGIN:VEVENT
DTSTART:20110129T000000
DTEND:20110129T235900
DTSTAMP:20260422T183517
CREATED:20110127T010631
LAST-MODIFIED:20110127T010631
UID:3141@https://singpromos.com
SUMMARY:LovethatBag Coach, Kate Spade, Prada Handbags Clearance Sale 29 Jan 2011
DESCRIPTION:LovethatBag is having a clearance luxury bags sale on 29th January 2011 10am to 4pm at Orchid Country Club. Handbag brands include Coach, Kate Spade and Prada. See ad image for more details.. For more information, visit [ https://singpromos.com/handbags/lovethatbag-coach-kate-spade-prada-handbags-clearance-sale-29-jan-2011-3141/ ]. 
LOCATION:
URL:https://singpromos.com/handbags/lovethatbag-coach-kate-spade-prada-handbags-clearance-sale-29-jan-2011-3141/
END:VEVENT
END:VCALENDAR