BEGIN:VCALENDAR
PRODID:-//SINGPromos.com//NONSGML v1.0//EN
VERSION:2.0
CALSCALE:GREGORIAN
METHOD:PUBLISH
X-WR-CALNAME:SINGPromos.com
X-ORIGINAL-URL:https://singpromos.com
X-WR-CALDESC:Events for SINGPromos.com
BEGIN:VEVENT
DTSTART:20120505T000000
DTEND:20120511T235900
DTSTAMP:20260422T044707
CREATED:20120505T204909
LAST-MODIFIED:20120508T204529
UID:31446@https://singpromos.com
SUMMARY:Courts Megastore Massive Clear-Out Sale 5 - 11 May 2012
DESCRIPTION:Courts has started their Megastore Massive Clear-Out sale with up to 60% off mattresses, 60% off furniture and more. It is also continuing its Grand Re-Opening at Causeway Point. For more information, visit [ https://singpromos.com/computers-pc/courts-megastore-massive-clear-out-sale-5-11-may-2012-31446/ ]. 
LOCATION:
URL:https://singpromos.com/computers-pc/courts-megastore-massive-clear-out-sale-5-11-may-2012-31446/
END:VEVENT
END:VCALENDAR