BEGIN:VCALENDAR
PRODID:-//SINGPromos.com//NONSGML v1.0//EN
VERSION:2.0
CALSCALE:GREGORIAN
METHOD:PUBLISH
X-WR-CALNAME:SINGPromos.com
X-ORIGINAL-URL:https://singpromos.com
X-WR-CALDESC:Events for SINGPromos.com
BEGIN:VEVENT
DTSTART:20120509T000000
DTEND:20120509T235900
DTSTAMP:20260420T214039
CREATED:20120509T152921
LAST-MODIFIED:20120509T152921
UID:31570@https://singpromos.com
SUMMARY:Zuji Singapore 10% Off Hotels Coupon Code ONE DAY Only 9 May 2012
DESCRIPTION:Enjoy an additional 10% off ALL hotels for ONE DAY only on 9 May 2012 at www.zuji.com.sg. Minimum $300 spend required.. For more information, visit [ https://singpromos.com/vacations/zuji-singapore-10-off-hotels-coupon-code-one-day-only-9-may-2012-31570/ ]. 
LOCATION:
URL:https://singpromos.com/vacations/zuji-singapore-10-off-hotels-coupon-code-one-day-only-9-may-2012-31570/
END:VEVENT
END:VCALENDAR