BEGIN:VCALENDAR
PRODID:-//SINGPromos.com//NONSGML v1.0//EN
VERSION:2.0
CALSCALE:GREGORIAN
METHOD:PUBLISH
X-WR-CALNAME:SINGPromos.com
X-ORIGINAL-URL:https://singpromos.com
X-WR-CALDESC:Events for SINGPromos.com
BEGIN:VEVENT
DTSTART:20120509T000000
DTEND:20120510T235900
DTSTAMP:20260420T214040
CREATED:20120509T193252
LAST-MODIFIED:20120509T193252
UID:31596@https://singpromos.com
SUMMARY:Hotels.Com Global 48 Hour Sale Up To 50% Off 9 - 10 May 2012
DESCRIPTION:Hotels.com Global Sale is now back for the next 48 hours with up to 50% off! Don't forget to use these discount coupons to get up to 10% off!. For more information, visit [ https://singpromos.com/vacations/hotels-com-global-48-hour-sale-up-to-50-off-9-10-may-2012-31596/ ]. 
LOCATION:
URL:https://singpromos.com/vacations/hotels-com-global-48-hour-sale-up-to-50-off-9-10-may-2012-31596/
END:VEVENT
END:VCALENDAR