BEGIN:VCALENDAR
PRODID:-//SINGPromos.com//NONSGML v1.0//EN
VERSION:2.0
CALSCALE:GREGORIAN
METHOD:PUBLISH
X-WR-CALNAME:SINGPromos.com
X-ORIGINAL-URL:https://singpromos.com
X-WR-CALDESC:Events for SINGPromos.com
BEGIN:VEVENT
DTSTART:20120510T000000
DTEND:20120520T235900
DTSTAMP:20260424T032128
CREATED:20120509T203240
LAST-MODIFIED:20120509T203240
UID:31611@https://singpromos.com
SUMMARY:OG Travel Essentials 20% Off Promotion 10 - 20 May 2012
DESCRIPTION:Make OG your next stop for travel essentials at 20% off regular price from 10 May to 20 May 2012. For more information, visit [ https://singpromos.com/fashion-accessories/og-travel-essentials-20-off-promotion-10-20-may-2012-31611/ ]. 
LOCATION:
URL:https://singpromos.com/fashion-accessories/og-travel-essentials-20-off-promotion-10-20-may-2012-31611/
END:VEVENT
END:VCALENDAR