BEGIN:VCALENDAR
PRODID:-//SINGPromos.com//NONSGML v1.0//EN
VERSION:2.0
CALSCALE:GREGORIAN
METHOD:PUBLISH
X-WR-CALNAME:SINGPromos.com
X-ORIGINAL-URL:https://singpromos.com
X-WR-CALDESC:Events for SINGPromos.com
BEGIN:VEVENT
DTSTART:20120511T000000
DTEND:20120520T235900
DTSTAMP:20260420T203425
CREATED:20120510T213952
LAST-MODIFIED:20120510T214159
UID:31757@https://singpromos.com
SUMMARY:NDP 2012 Tickets Application Dates & Procedures 11 - 20 May 2012
DESCRIPTION:Singapore Citizens and Permanent Residents can apply for preview and actual day tickets to this year's National Day Parade (NDP) from 11 to 20 May 2012.. For more information, visit [ https://singpromos.com/happenings/ndp-2012-tickets-application-dates-procedures-11-20-may-2012-31757/ ]. 
LOCATION:
URL:https://singpromos.com/happenings/ndp-2012-tickets-application-dates-procedures-11-20-may-2012-31757/
END:VEVENT
END:VCALENDAR