BEGIN:VCALENDAR
PRODID:-//SINGPromos.com//NONSGML v1.0//EN
VERSION:2.0
CALSCALE:GREGORIAN
METHOD:PUBLISH
X-WR-CALNAME:SINGPromos.com
X-ORIGINAL-URL:https://singpromos.com
X-WR-CALDESC:Events for SINGPromos.com
BEGIN:VEVENT
DTSTART:20120511T000000
DTEND:20120527T235900
DTSTAMP:20260422T082314
CREATED:20120511T212440
LAST-MODIFIED:20120511T212440
UID:31850@https://singpromos.com
SUMMARY:Golf Direct Pre-GSS Special Offers 11 - 27 May 2012
DESCRIPTION:Golf Direct is having a pre Great Singapore Sale special promotion till 27 May 2012. For more information, visit [ https://singpromos.com/sports/golf-direct-pre-gss-special-offers-11-27-may-2012-31850/ ]. 
LOCATION:
URL:https://singpromos.com/sports/golf-direct-pre-gss-special-offers-11-27-may-2012-31850/
END:VEVENT
END:VCALENDAR