BEGIN:VCALENDAR
PRODID:-//SINGPromos.com//NONSGML v1.0//EN
VERSION:2.0
CALSCALE:GREGORIAN
METHOD:PUBLISH
X-WR-CALNAME:SINGPromos.com
X-ORIGINAL-URL:https://singpromos.com
X-WR-CALDESC:Events for SINGPromos.com
BEGIN:VEVENT
DTSTART:20120512T000000
DTEND:20120518T235900
DTSTAMP:20260422T082122
CREATED:20120512T142252
LAST-MODIFIED:20120512T142252
UID:31958@https://singpromos.com
SUMMARY:Singtel Smartphones, Tablets, Home/Mobile Broadband & Mio TV Offers 12 - 18 May 2012
DESCRIPTION:Here is Singtel's latest mobile phones, tablets and broadband promotions and special offers for this week presumably valid till 11 May 2012. For more information, visit [ https://singpromos.com/telecoms/singtel-smartphones-tablets-homemobile-broadband-mio-tv-offers-12-18-may-2012-31958/ ]. 
LOCATION:
URL:https://singpromos.com/telecoms/singtel-smartphones-tablets-homemobile-broadband-mio-tv-offers-12-18-may-2012-31958/
END:VEVENT
END:VCALENDAR