BEGIN:VCALENDAR
PRODID:-//SINGPromos.com//NONSGML v1.0//EN
VERSION:2.0
CALSCALE:GREGORIAN
METHOD:PUBLISH
X-WR-CALNAME:SINGPromos.com
X-ORIGINAL-URL:https://singpromos.com
X-WR-CALDESC:Events for SINGPromos.com
BEGIN:VEVENT
DTSTART:20120515T000000
DTEND:20120708T235900
DTSTAMP:20260422T053725
CREATED:20120515T164554
LAST-MODIFIED:20120627T142022
UID:32162@https://singpromos.com
SUMMARY:Aibi Great Singapore Sale 15 May 2012
DESCRIPTION:Aibi has started the Great Singapore Sale with up to 40% off. Visit their roadshow at Junction 8 from 14 to 20 May and at Century Square from 18 to 24 May 2012. For more information, visit [ https://singpromos.com/body-fitness-gym/aibi-great-singapore-sale-15-may-2012-32162/ ]. 
LOCATION:
URL:https://singpromos.com/body-fitness-gym/aibi-great-singapore-sale-15-may-2012-32162/
END:VEVENT
END:VCALENDAR