BEGIN:VCALENDAR
PRODID:-//SINGPromos.com//NONSGML v1.0//EN
VERSION:2.0
CALSCALE:GREGORIAN
METHOD:PUBLISH
X-WR-CALNAME:SINGPromos.com
X-ORIGINAL-URL:https://singpromos.com
X-WR-CALDESC:Events for SINGPromos.com
BEGIN:VEVENT
DTSTART:20120523T000000
DTEND:20120610T235900
DTSTAMP:20260424T023529
CREATED:20120519T200841
LAST-MODIFIED:20140331T184042
UID:32626@https://singpromos.com
SUMMARY:Isetan Happycall Kitchenware Offers 23 May - 10 Jun 2012
DESCRIPTION:Isetan is now offering the HAPPYCALL Double Pan featuring Ceramic + Titanium 3 Layer coating, less smoke, less smell and no oil splattering. For more information, visit [ https://singpromos.com/kitchenware-cookware/isetan-happycall-kitchenware-offers-23-may-10-jun-2012-32626/ ]. 
LOCATION:
URL:https://singpromos.com/kitchenware-cookware/isetan-happycall-kitchenware-offers-23-may-10-jun-2012-32626/
END:VEVENT
END:VCALENDAR