BEGIN:VCALENDAR
PRODID:-//SINGPromos.com//NONSGML v1.0//EN
VERSION:2.0
CALSCALE:GREGORIAN
METHOD:PUBLISH
X-WR-CALNAME:SINGPromos.com
X-ORIGINAL-URL:https://singpromos.com
X-WR-CALDESC:Events for SINGPromos.com
BEGIN:VEVENT
DTSTART:20120521T000000
DTEND:20120605T235900
DTSTAMP:20260420T021753
CREATED:20120521T135329
LAST-MODIFIED:20120521T135329
UID:32668@https://singpromos.com
SUMMARY:Malaysia Airlines Air Fares Promotion Offers 21 May - 5 Jun 2012
DESCRIPTION:Make memories that you will cherish forever with great deals from Malaysia Airlines' latest promotion.. For more information, visit [ https://singpromos.com/airlines-flights/malaysia-airlines-air-fares-promotion-offers-21-may-5-jun-2012-32668/ ]. 
LOCATION:
URL:https://singpromos.com/airlines-flights/malaysia-airlines-air-fares-promotion-offers-21-may-5-jun-2012-32668/
END:VEVENT
END:VCALENDAR