BEGIN:VCALENDAR
PRODID:-//SINGPromos.com//NONSGML v1.0//EN
VERSION:2.0
CALSCALE:GREGORIAN
METHOD:PUBLISH
X-WR-CALNAME:SINGPromos.com
X-ORIGINAL-URL:https://singpromos.com
X-WR-CALDESC:Events for SINGPromos.com
BEGIN:VEVENT
DTSTART:20120523T000000
DTEND:20120527T235900
DTSTAMP:20260420T182429
CREATED:20120522T092836
LAST-MODIFIED:20120526T003328
UID:32697@https://singpromos.com
SUMMARY:Best Denki Warehouse Carnival Sale Up To 80% Off 23 - 27 May 2012
DESCRIPTION:Best Denki is having a Best Warehouse Carnival Sale from 23 May to 27 May 2012, 11am to 7pm (till 5pm on 27 May) at Entrepreneur Business Centre at 50 Tagore Lane. For more information, visit [ https://singpromos.com/warehouse-sales/best-denki-warehouse-carnival-sale-up-to-80-off-23-27-may-2012-32697/ ]. 
LOCATION:50 Tagore Lane, 787494
URL:https://singpromos.com/warehouse-sales/best-denki-warehouse-carnival-sale-up-to-80-off-23-27-may-2012-32697/
END:VEVENT
END:VCALENDAR