BEGIN:VCALENDAR
PRODID:-//SINGPromos.com//NONSGML v1.0//EN
VERSION:2.0
CALSCALE:GREGORIAN
METHOD:PUBLISH
X-WR-CALNAME:SINGPromos.com
X-ORIGINAL-URL:https://singpromos.com
X-WR-CALDESC:Events for SINGPromos.com
BEGIN:VEVENT
DTSTART:20120525T000000
DTEND:20120527T235900
DTSTAMP:20260420T053435
CREATED:20120523T223415
LAST-MODIFIED:20120523T223415
UID:32815@https://singpromos.com
SUMMARY:Cristofori Piano Warehouse Sale Up To 70% Off 25 - 27 May 2012
DESCRIPTION:Cristofori is having a Piano warehouse sale to clear their stocks with up to 70% off from 25 May to 27 May 2012 with over 300 items on sale.. For more information, visit [ https://singpromos.com/warehouse-sales/cristofori-piano-warehouse-sale-up-to-70-off-25-27-may-2012-32815/ ]. 
LOCATION:Blk 3014 Bedok Industrial Park E, 489980
URL:https://singpromos.com/warehouse-sales/cristofori-piano-warehouse-sale-up-to-70-off-25-27-may-2012-32815/
END:VEVENT
END:VCALENDAR