BEGIN:VCALENDAR
PRODID:-//SINGPromos.com//NONSGML v1.0//EN
VERSION:2.0
CALSCALE:GREGORIAN
METHOD:PUBLISH
X-WR-CALNAME:SINGPromos.com
X-ORIGINAL-URL:https://singpromos.com
X-WR-CALDESC:Events for SINGPromos.com
BEGIN:VEVENT
DTSTART:20120524T000000
DTEND:20120610T235900
DTSTAMP:20260422T204205
CREATED:20120524T232035
LAST-MODIFIED:20120602T154245
UID:32865@https://singpromos.com
SUMMARY:Takashimaya TSC Special Promotion 24 May - 10 Jun 2012
DESCRIPTION:Mix and match, reflect your taste with eye-catching clothes, accessories and many more at attractive prices.. For more information, visit [ https://singpromos.com/fashion-accessories/takashimaya-tsc-special-promotion-24-may-10-jun-2012-32865/ ]. 
LOCATION:
URL:https://singpromos.com/fashion-accessories/takashimaya-tsc-special-promotion-24-may-10-jun-2012-32865/
END:VEVENT
END:VCALENDAR