BEGIN:VCALENDAR
PRODID:-//SINGPromos.com//NONSGML v1.0//EN
VERSION:2.0
CALSCALE:GREGORIAN
METHOD:PUBLISH
X-WR-CALNAME:SINGPromos.com
X-ORIGINAL-URL:https://singpromos.com
X-WR-CALDESC:Events for SINGPromos.com
BEGIN:VEVENT
DTSTART:20120426T000000
DTEND:20120527T235900
DTSTAMP:20260422T082116
CREATED:20120525T004550
LAST-MODIFIED:20120525T004550
UID:32914@https://singpromos.com
SUMMARY:Escada Spring / Summer 2012 Open Sale 24 May 2012
DESCRIPTION:Escada is having their Open Sale for their Spring / Summer 2012 collection.. For more information, visit [ https://singpromos.com/fashion-accessories/escada-spring-summer-2012-open-sale-24-may-2012-32914/ ]. 
LOCATION:
URL:https://singpromos.com/fashion-accessories/escada-spring-summer-2012-open-sale-24-may-2012-32914/
END:VEVENT
END:VCALENDAR