BEGIN:VCALENDAR
PRODID:-//SINGPromos.com//NONSGML v1.0//EN
VERSION:2.0
CALSCALE:GREGORIAN
METHOD:PUBLISH
X-WR-CALNAME:SINGPromos.com
X-ORIGINAL-URL:https://singpromos.com
X-WR-CALDESC:Events for SINGPromos.com
BEGIN:VEVENT
DTSTART:20120525T000000
DTEND:20120708T235900
DTSTAMP:20260420T215839
CREATED:20120525T191835
LAST-MODIFIED:20120629T234615
UID:33477@https://singpromos.com
SUMMARY:Sony Days 2012 Sale 25 May - 8 Jul 2012
DESCRIPTION:Sony presents Sony Days 2012 - the best deals that you will not get - event at trade shows (presumably the PC Show 2012) from 25 May to 8 July 2012. For more information, visit [ https://singpromos.com/computers-pc/sony-days-2012-sale-25-may-8-jul-2012-33477/ ]. 
LOCATION:
URL:https://singpromos.com/computers-pc/sony-days-2012-sale-25-may-8-jul-2012-33477/
END:VEVENT
END:VCALENDAR