BEGIN:VCALENDAR
PRODID:-//SINGPromos.com//NONSGML v1.0//EN
VERSION:2.0
CALSCALE:GREGORIAN
METHOD:PUBLISH
X-WR-CALNAME:SINGPromos.com
X-ORIGINAL-URL:https://singpromos.com
X-WR-CALDESC:Events for SINGPromos.com
BEGIN:VEVENT
DTSTART:20120601T000000
DTEND:20120607T235900
DTSTAMP:20260422T082126
CREATED:20120601T190224
LAST-MODIFIED:20120601T190224
UID:33761@https://singpromos.com
SUMMARY:6range Sony Smartphones No Contract Offers 1 Jun 2012
DESCRIPTION:Here is 6range's latest price list for no-contract Sony (previously known as Sony Ericsson) mobile phones. 6range is also having a Sony Xperia roadshow at Junction 8 till 3 Jun 2012. For more information, visit [ https://singpromos.com/mobile-phones/6range-sony-smartphones-no-contract-offers-1-jun-2012-33761/ ]. 
LOCATION:
URL:https://singpromos.com/mobile-phones/6range-sony-smartphones-no-contract-offers-1-jun-2012-33761/
END:VEVENT
END:VCALENDAR