BEGIN:VCALENDAR
PRODID:-//SINGPromos.com//NONSGML v1.0//EN
VERSION:2.0
CALSCALE:GREGORIAN
METHOD:PUBLISH
X-WR-CALNAME:SINGPromos.com
X-ORIGINAL-URL:https://singpromos.com
X-WR-CALDESC:Events for SINGPromos.com
BEGIN:VEVENT
DTSTART:20120602T000000
DTEND:20120608T235900
DTSTAMP:20260420T182339
CREATED:20120602T223434
LAST-MODIFIED:20120602T223434
UID:33882@https://singpromos.com
SUMMARY:Harvey Norman Electronics, Appliances & Recliner Offers 2 - 8 Jun 2012
DESCRIPTION:Celebrate Father's Day with Harvey Norman! And perk your day with a fresh cuppa at coffee & cooking concept store.. For more information, visit [ https://singpromos.com/home-appliances/harvey-norman-electronics-appliances-recliner-offers-2-8-jun-2012-33882/ ]. 
LOCATION:
URL:https://singpromos.com/home-appliances/harvey-norman-electronics-appliances-recliner-offers-2-8-jun-2012-33882/
END:VEVENT
END:VCALENDAR