BEGIN:VCALENDAR
PRODID:-//SINGPromos.com//NONSGML v1.0//EN
VERSION:2.0
CALSCALE:GREGORIAN
METHOD:PUBLISH
X-WR-CALNAME:SINGPromos.com
X-ORIGINAL-URL:https://singpromos.com
X-WR-CALDESC:Events for SINGPromos.com
BEGIN:VEVENT
DTSTART:20120605T000000
DTEND:20120607T235900
DTSTAMP:20260420T231749
CREATED:20120605T193935
LAST-MODIFIED:20120605T193935
UID:33997@https://singpromos.com
SUMMARY:Hotels.Com Vietnam Sale Up To 60% Off 5 - 7 May 2012
DESCRIPTION:Hotels.com is havinga Vietnam 72 hour sale till 7 May 2012 with up to 60% off. Save up to 60% off at hotels at Hanoi, Ho Chi Minh and more. For more information, visit [ https://singpromos.com/vacations/hotels-com-vietnam-sale-up-to-60-off-5-7-may-2012-33997/ ]. 
LOCATION:
URL:https://singpromos.com/vacations/hotels-com-vietnam-sale-up-to-60-off-5-7-may-2012-33997/
END:VEVENT
END:VCALENDAR