BEGIN:VCALENDAR
PRODID:-//SINGPromos.com//NONSGML v1.0//EN
VERSION:2.0
CALSCALE:GREGORIAN
METHOD:PUBLISH
X-WR-CALNAME:SINGPromos.com
X-ORIGINAL-URL:https://singpromos.com
X-WR-CALDESC:Events for SINGPromos.com
BEGIN:VEVENT
DTSTART:20120608T000000
DTEND:20120624T235900
DTSTAMP:20260422T082128
CREATED:20120608T175459
LAST-MODIFIED:20120609T182034
UID:34283@https://singpromos.com
SUMMARY:Golf Direct 2nd Anniversary Sale 8 - 24 Jun 2012
DESCRIPTION:Golf Direct is having a 2nd Anniversary Super Sale from 8 June till 24 June 2012. For more information, visit [ https://singpromos.com/sports/golf-direct-2nd-anniversary-sale-8-24-jun-2012-34283/ ]. 
LOCATION:
URL:https://singpromos.com/sports/golf-direct-2nd-anniversary-sale-8-24-jun-2012-34283/
END:VEVENT
END:VCALENDAR