BEGIN:VCALENDAR
PRODID:-//SINGPromos.com//NONSGML v1.0//EN
VERSION:2.0
CALSCALE:GREGORIAN
METHOD:PUBLISH
X-WR-CALNAME:SINGPromos.com
X-ORIGINAL-URL:https://singpromos.com
X-WR-CALDESC:Events for SINGPromos.com
BEGIN:VEVENT
DTSTART:20120611T000000
DTEND:20120611T235900
DTSTAMP:20260422T204204
CREATED:20120610T173241
LAST-MODIFIED:20120610T173241
UID:34392@https://singpromos.com
SUMMARY:Her Velvet Vase Iris New Summer Splash 2012 Launch 11 Jun 2012
DESCRIPTION:The label has been renewed and revamped to bring you a whole new slew of exciting new designs and styles. For more information, visit [ https://singpromos.com/fashion-accessories/her-velvet-vase-iris-new-summer-splash-2012-launch-11-jun-2012-34392/ ]. 
LOCATION:
URL:https://singpromos.com/fashion-accessories/her-velvet-vase-iris-new-summer-splash-2012-launch-11-jun-2012-34392/
END:VEVENT
END:VCALENDAR