BEGIN:VCALENDAR
PRODID:-//SINGPromos.com//NONSGML v1.0//EN
VERSION:2.0
CALSCALE:GREGORIAN
METHOD:PUBLISH
X-WR-CALNAME:SINGPromos.com
X-ORIGINAL-URL:https://singpromos.com
X-WR-CALDESC:Events for SINGPromos.com
BEGIN:VEVENT
DTSTART:20120607T000000
DTEND:20120613T235900
DTSTAMP:20260420T061841
CREATED:20120607T214107
LAST-MODIFIED:20120614T185516
UID:34413@https://singpromos.com
SUMMARY:Watsons Personal Care, Health, Cosmetics & Beauty Offers 7 - 13 Jun 2012 
DESCRIPTION:Watsons is having a cardmembers sale of 50% off selected items, valid till 10 June 2012. It is having a $2 mix & Match as well as a buy 10 get 1 free promotion for selected products. For more information, visit [ https://singpromos.com/personal-care/watsons-personal-care-health-cosmetics-beauty-offers-8-14-jun-2012-34413/ ]. 
LOCATION:
URL:https://singpromos.com/personal-care/watsons-personal-care-health-cosmetics-beauty-offers-8-14-jun-2012-34413/
END:VEVENT
END:VCALENDAR