BEGIN:VCALENDAR
PRODID:-//SINGPromos.com//NONSGML v1.0//EN
VERSION:2.0
CALSCALE:GREGORIAN
METHOD:PUBLISH
X-WR-CALNAME:SINGPromos.com
X-ORIGINAL-URL:https://singpromos.com
X-WR-CALDESC:Events for SINGPromos.com
BEGIN:VEVENT
DTSTART:20120613T000000
DTEND:20120630T235900
DTSTAMP:20260422T082136
CREATED:20120613T152934
LAST-MODIFIED:20120613T152934
UID:34633@https://singpromos.com
SUMMARY:Acer Business Notebooks & Desktop PC Price List 13 - 30 Jun 2012
DESCRIPTION:Here's Acer's latest promotion price list for some of their business computing notebooks and desktop PC systems. Notebooks listed are Acer TravelMate P243-M-53214G50Ma Notebook, Acer TravelMate P643-MG-53214G50Mi Notebook and more. For more information, visit [ https://singpromos.com/computers-pc/acer-business-notebooks-desktop-pc-price-list-13-30-jun-2012-34633/ ]. 
LOCATION:
URL:https://singpromos.com/computers-pc/acer-business-notebooks-desktop-pc-price-list-13-30-jun-2012-34633/
END:VEVENT
END:VCALENDAR