BEGIN:VCALENDAR
PRODID:-//SINGPromos.com//NONSGML v1.0//EN
VERSION:2.0
CALSCALE:GREGORIAN
METHOD:PUBLISH
X-WR-CALNAME:SINGPromos.com
X-ORIGINAL-URL:https://singpromos.com
X-WR-CALDESC:Events for SINGPromos.com
BEGIN:VEVENT
DTSTART:20120703T000000
DTEND:20120703T235900
DTSTAMP:20260422T082108
CREATED:20120614T015408
LAST-MODIFIED:20120614T015408
UID:34706@https://singpromos.com
SUMMARY:Adobe Singapore CS6 Launch Event @ Kallang Theatre 3 Jul 2012
DESCRIPTION:The launch of the amazing Adobe Creative Suite 6. Here's your chance to be part of this momentous event and experience for yourself the best-in-class tools of Creative Suite 6 and Adobe Creative Cloud. For more information, visit [ https://singpromos.com/happenings/adobe-singapore-cs6-launch-event-kallang-theatre-3-jul-2012-34706/ ]. 
LOCATION:1 Stadium Walk, 397688
URL:https://singpromos.com/happenings/adobe-singapore-cs6-launch-event-kallang-theatre-3-jul-2012-34706/
END:VEVENT
END:VCALENDAR