BEGIN:VCALENDAR
PRODID:-//SINGPromos.com//NONSGML v1.0//EN
VERSION:2.0
CALSCALE:GREGORIAN
METHOD:PUBLISH
X-WR-CALNAME:SINGPromos.com
X-ORIGINAL-URL:https://singpromos.com
X-WR-CALDESC:Events for SINGPromos.com
BEGIN:VEVENT
DTSTART:20120614T000000
DTEND:20120708T235900
DTSTAMP:20260420T195521
CREATED:20120614T213233
LAST-MODIFIED:20120705T163751
UID:34759@https://singpromos.com
SUMMARY:Canon Digital Cameras Price List Offers 14 Jun 2012
DESCRIPTION:Grab any of these irresistible Canon deals and you could be one of 8 lucky winners of a trip to Bali. Even better, Canon Imaging Academy expert instructor Jino Lee will be there to give you professional advice on how to take your photography to the next level.. For more information, visit [ https://singpromos.com/digital-cameras-dslr/canon-digital-cameras-price-list-offers-14-jun-2012-34759/ ]. 
LOCATION:
URL:https://singpromos.com/digital-cameras-dslr/canon-digital-cameras-price-list-offers-14-jun-2012-34759/
END:VEVENT
END:VCALENDAR