BEGIN:VCALENDAR
PRODID:-//SINGPromos.com//NONSGML v1.0//EN
VERSION:2.0
CALSCALE:GREGORIAN
METHOD:PUBLISH
X-WR-CALNAME:SINGPromos.com
X-ORIGINAL-URL:https://singpromos.com
X-WR-CALDESC:Events for SINGPromos.com
BEGIN:VEVENT
DTSTART:20120614T000000
DTEND:20120620T235900
DTSTAMP:20260420T182347
CREATED:20120614T212826
LAST-MODIFIED:20120614T212826
UID:34769@https://singpromos.com
SUMMARY:Harvey Norman Father's Day Special Offers 14 - 20 Jun 2012
DESCRIPTION:Here is Harvey Norman's latest mid week tech savers, specially catered for Father's Day and valid till 20 June 2012.. For more information, visit [ https://singpromos.com/home-appliances/harvey-norman-fathers-day-special-offers-14-20-jun-2012-34769/ ]. 
LOCATION:
URL:https://singpromos.com/home-appliances/harvey-norman-fathers-day-special-offers-14-20-jun-2012-34769/
END:VEVENT
END:VCALENDAR