BEGIN:VCALENDAR
PRODID:-//SINGPromos.com//NONSGML v1.0//EN
VERSION:2.0
CALSCALE:GREGORIAN
METHOD:PUBLISH
X-WR-CALNAME:SINGPromos.com
X-ORIGINAL-URL:https://singpromos.com
X-WR-CALDESC:Events for SINGPromos.com
BEGIN:VEVENT
DTSTART:20120616T000000
DTEND:20120622T235900
DTSTAMP:20260424T012018
CREATED:20120616T164349
LAST-MODIFIED:20120616T164349
UID:34992@https://singpromos.com
SUMMARY:HTC Smartphones No Contract Price List 16 Jun 2012
DESCRIPTION:Here is the latest no contract price list offers for some of HTC's latest smartphones. Check out their roadshows till 17 June 2012 at Funan Digitalife Mall, Jurong Point and Yew Tee Point for more offers. For more information, visit [ https://singpromos.com/mobile-phones/htc-smartphones-no-contract-price-list-16-jun-2012-34992/ ]. 
LOCATION:
URL:https://singpromos.com/mobile-phones/htc-smartphones-no-contract-price-list-16-jun-2012-34992/
END:VEVENT
END:VCALENDAR