BEGIN:VCALENDAR
PRODID:-//SINGPromos.com//NONSGML v1.0//EN
VERSION:2.0
CALSCALE:GREGORIAN
METHOD:PUBLISH
X-WR-CALNAME:SINGPromos.com
X-ORIGINAL-URL:https://singpromos.com
X-WR-CALDESC:Events for SINGPromos.com
BEGIN:VEVENT
DTSTART:20120618T000000
DTEND:20120622T235900
DTSTAMP:20260420T231805
CREATED:20120620T031541
LAST-MODIFIED:20120623T140337
UID:35137@https://singpromos.com
SUMMARY:Zuji Singapore 10% Off Hotels Coupon Code 19 - 22 Jun 2012
DESCRIPTION:Enjoy an additional 10% off all hotels from 19 June to 22 June at www.zuji.com.sg with this coupon code. Minimum $300 spend required.. For more information, visit [ https://singpromos.com/vacations/zuji-singapore-10-off-hotels-coupon-code-19-22-jun-2012-35137/ ]. 
LOCATION:
URL:https://singpromos.com/vacations/zuji-singapore-10-off-hotels-coupon-code-19-22-jun-2012-35137/
END:VEVENT
END:VCALENDAR