BEGIN:VCALENDAR
PRODID:-//SINGPromos.com//NONSGML v1.0//EN
VERSION:2.0
CALSCALE:GREGORIAN
METHOD:PUBLISH
X-WR-CALNAME:SINGPromos.com
X-ORIGINAL-URL:https://singpromos.com
X-WR-CALDESC:Events for SINGPromos.com
BEGIN:VEVENT
DTSTART:20120622T000000
DTEND:20120708T235900
DTSTAMP:20260420T172726
CREATED:20120622T030433
LAST-MODIFIED:20120622T030433
UID:35307@https://singpromos.com
SUMMARY:Breeks Singapore 50% Off All Sweet Treats On Weekdays 22 Jun 2012
DESCRIPTION:Get 50% off on all sweet treats every weekday from 2pm to 5pm at all Breeks Singapore outlets!. For more information, visit [ https://singpromos.com/dining-restaurants-food/breeks-singapore-50-off-all-sweet-treats-on-weekdays-22-jun-2012-35307/ ]. 
LOCATION:
URL:https://singpromos.com/dining-restaurants-food/breeks-singapore-50-off-all-sweet-treats-on-weekdays-22-jun-2012-35307/
END:VEVENT
END:VCALENDAR