BEGIN:VCALENDAR
PRODID:-//SINGPromos.com//NONSGML v1.0//EN
VERSION:2.0
CALSCALE:GREGORIAN
METHOD:PUBLISH
X-WR-CALNAME:SINGPromos.com
X-ORIGINAL-URL:https://singpromos.com
X-WR-CALDESC:Events for SINGPromos.com
BEGIN:VEVENT
DTSTART:20120623T000000
DTEND:20120629T235900
DTSTAMP:20260424T012017
CREATED:20120623T134406
LAST-MODIFIED:20120623T134406
UID:35485@https://singpromos.com
SUMMARY:Singtel Smartphones, Tablets, Home/Mobile Broadband & Mio TV Offers 23 - 29 Jun 2012
DESCRIPTION:Here is Singtel's latest mobile phones, tablets and broadband promotions and special offers for this week, presumably valid till 29 June 2012. For more information, visit [ https://singpromos.com/telecoms/singtel-smartphones-tablets-homemobile-broadband-mio-tv-offers-23-29-jun-2012-35485/ ]. 
LOCATION:
URL:https://singpromos.com/telecoms/singtel-smartphones-tablets-homemobile-broadband-mio-tv-offers-23-29-jun-2012-35485/
END:VEVENT
END:VCALENDAR