BEGIN:VCALENDAR
PRODID:-//SINGPromos.com//NONSGML v1.0//EN
VERSION:2.0
CALSCALE:GREGORIAN
METHOD:PUBLISH
X-WR-CALNAME:SINGPromos.com
X-ORIGINAL-URL:https://singpromos.com
X-WR-CALDESC:Events for SINGPromos.com
BEGIN:VEVENT
DTSTART:20120628T000000
DTEND:20120704T235900
DTSTAMP:20260420T214023
CREATED:20120628T110402
LAST-MODIFIED:20120628T140824
UID:35877@https://singpromos.com
SUMMARY:Harvey Norman Mid Week Tech Saver Offers 28 Jun - 4 Jul 2012
DESCRIPTION:Here is Harvey Norman's latest mid week tech savers, a mixed bag of goodies valid till 28 June 2012. Items listed are Samsung Galaxy Tab 3.9 and more. For more information, visit [ https://singpromos.com/computers-pc/harvey-norman-mid-week-tech-saver-offers-28-jun-4-jul-2012-35877/ ]. 
LOCATION:
URL:https://singpromos.com/computers-pc/harvey-norman-mid-week-tech-saver-offers-28-jun-4-jul-2012-35877/
END:VEVENT
END:VCALENDAR