BEGIN:VCALENDAR
PRODID:-//SINGPromos.com//NONSGML v1.0//EN
VERSION:2.0
CALSCALE:GREGORIAN
METHOD:PUBLISH
X-WR-CALNAME:SINGPromos.com
X-ORIGINAL-URL:https://singpromos.com
X-WR-CALDESC:Events for SINGPromos.com
BEGIN:VEVENT
DTSTART:20120629T000000
DTEND:20120705T235900
DTSTAMP:20260422T082152
CREATED:20120629T141252
LAST-MODIFIED:20120706T111756
UID:35974@https://singpromos.com
SUMMARY:Party World KTV 87% Off Karaoke Sessions @ Nine Locations 29 Jun 2012
DESCRIPTION:Sing your heart out at Party World KTV with this deal: $18 instead of $140 for up to 87% off Karaoke Sessions at Party World KTV with 3 price options available for up to 6 pax – that's up to 87% off the usual price! Learn how to get this deal before it ends soon. For more information, visit [ https://singpromos.com/places-of-interest/party-world-ktv-87-off-karaoke-sessions-nine-locations-29-jun-2012-35974/ ]. 
LOCATION:
URL:https://singpromos.com/places-of-interest/party-world-ktv-87-off-karaoke-sessions-nine-locations-29-jun-2012-35974/
END:VEVENT
END:VCALENDAR