BEGIN:VCALENDAR
PRODID:-//SINGPromos.com//NONSGML v1.0//EN
VERSION:2.0
CALSCALE:GREGORIAN
METHOD:PUBLISH
X-WR-CALNAME:SINGPromos.com
X-ORIGINAL-URL:https://singpromos.com
X-WR-CALDESC:Events for SINGPromos.com
BEGIN:VEVENT
DTSTART:20120629T000000
DTEND:20120708T235900
DTSTAMP:20260422T082111
CREATED:20120629T164131
LAST-MODIFIED:20120629T164200
UID:35995@https://singpromos.com
SUMMARY:Celio* 20% Off Storewide Promotion 29 Jun 2012
DESCRIPTION:Celio* is having a 20% off storewide for regular-priced items, with minimum 2 items purchase. Get an additional $20 off total bill with minimum spending of $120 nett, or additional $30 off total bill with minimum spending of $150 nett. For more information, visit [ https://singpromos.com/fashion-accessories/celio-20-off-storewide-promotion-29-jun-2012-35995/ ]. 
LOCATION:
URL:https://singpromos.com/fashion-accessories/celio-20-off-storewide-promotion-29-jun-2012-35995/
END:VEVENT
END:VCALENDAR