BEGIN:VCALENDAR
PRODID:-//SINGPromos.com//NONSGML v1.0//EN
VERSION:2.0
CALSCALE:GREGORIAN
METHOD:PUBLISH
X-WR-CALNAME:SINGPromos.com
X-ORIGINAL-URL:https://singpromos.com
X-WR-CALDESC:Events for SINGPromos.com
BEGIN:VEVENT
DTSTART:20120629T000000
DTEND:20120705T235900
DTSTAMP:20260422T082136
CREATED:20120629T170722
LAST-MODIFIED:20120629T170722
UID:36011@https://singpromos.com
SUMMARY:Cold Storage Wines & Chocolates Promotion 29 Jun - 5 Jul 2012
DESCRIPTION:Share the delights with Cold Storage chocolate offers - 2 packs of Kit Kat Share Pack 204g is going at $9 and any 2 Crunch/Milkybar chocolates are going at $5.50 only.. For more information, visit [ https://singpromos.com/dining-restaurants-food/cold-storage-wines-chocolates-promotion-29-jun-5-jul-2012-36011/ ]. 
LOCATION:
URL:https://singpromos.com/dining-restaurants-food/cold-storage-wines-chocolates-promotion-29-jun-5-jul-2012-36011/
END:VEVENT
END:VCALENDAR