BEGIN:VCALENDAR
PRODID:-//SINGPromos.com//NONSGML v1.0//EN
VERSION:2.0
CALSCALE:GREGORIAN
METHOD:PUBLISH
X-WR-CALNAME:SINGPromos.com
X-ORIGINAL-URL:https://singpromos.com
X-WR-CALDESC:Events for SINGPromos.com
BEGIN:VEVENT
DTSTART:20120629T000000
DTEND:20120701T235900
DTSTAMP:20260422T082126
CREATED:20120629T184641
LAST-MODIFIED:20120629T210125
UID:36051@https://singpromos.com
SUMMARY:MPH Bookstores Books Sale Up To 80% Off @ Singapore Expo 29 Jun - 1 Jul 2012
DESCRIPTION:MPH Bookstores will be having a books sale from 29 June to 1 July 2012, 3pm (9am on weekend) to 9pm at Singapore Expo Hall 5 with up to 80% off. For more information, visit [ https://singpromos.com/happenings/mph-bookstores-books-sale-singapore-expo-29-jun-1-jul-2012-36051/ ]. 
LOCATION:
URL:https://singpromos.com/happenings/mph-bookstores-books-sale-singapore-expo-29-jun-1-jul-2012-36051/
END:VEVENT
END:VCALENDAR