BEGIN:VCALENDAR
PRODID:-//SINGPromos.com//NONSGML v1.0//EN
VERSION:2.0
CALSCALE:GREGORIAN
METHOD:PUBLISH
X-WR-CALNAME:SINGPromos.com
X-ORIGINAL-URL:https://singpromos.com
X-WR-CALDESC:Events for SINGPromos.com
BEGIN:VEVENT
DTSTART:20120707T000000
DTEND:20120707T235900
DTSTAMP:20260420T022849
CREATED:20120630T003353
LAST-MODIFIED:20120630T003353
UID:36098@https://singpromos.com
SUMMARY:LovethatBag Branded Handbags Sale Up To 75% Off @ Grand Hyatt Singapore 7 Jul 2012
DESCRIPTION:LovethatBag will be having a luxury branded handbags sale on on 7 July 2012, 10am to 6pm at Grand Hyatt Singapore, 10 Scotts Road, Vanda Room, Level 3 with up to 75% off. For more information, visit [ https://singpromos.com/handbags/lovethatbag-branded-handbags-sale-up-to-75-off-grand-hyatt-singapore-7-jul-2012-36098/ ]. 
LOCATION:10 Scotts Road
URL:https://singpromos.com/handbags/lovethatbag-branded-handbags-sale-up-to-75-off-grand-hyatt-singapore-7-jul-2012-36098/
END:VEVENT
END:VCALENDAR