BEGIN:VCALENDAR
PRODID:-//SINGPromos.com//NONSGML v1.0//EN
VERSION:2.0
CALSCALE:GREGORIAN
METHOD:PUBLISH
X-WR-CALNAME:SINGPromos.com
X-ORIGINAL-URL:https://singpromos.com
X-WR-CALDESC:Events for SINGPromos.com
BEGIN:VEVENT
DTSTART:20120623T000000
DTEND:20120809T235900
DTSTAMP:20260420T203426
CREATED:20120630T012129
LAST-MODIFIED:20120804T232143
UID:36102@https://singpromos.com
SUMMARY:NDP 2012 Road Closures Singapore 23 Jun - 9 Aug 2012
DESCRIPTION:Here are the road closures in Singapore for the National Day Parade 2012 (NDP2012). Major roads affected are Republic Boulevard, Raffles Avenue, Esplanade Drive, Connaught Road and Bayfront Avenue.. For more information, visit [ https://singpromos.com/news/ndp-2012-road-closures-singapore-23-jun-9-aug-2012-36102/ ]. 
LOCATION:
URL:https://singpromos.com/news/ndp-2012-road-closures-singapore-23-jun-9-aug-2012-36102/
END:VEVENT
END:VCALENDAR