BEGIN:VCALENDAR
PRODID:-//SINGPromos.com//NONSGML v1.0//EN
VERSION:2.0
CALSCALE:GREGORIAN
METHOD:PUBLISH
X-WR-CALNAME:SINGPromos.com
X-ORIGINAL-URL:https://singpromos.com
X-WR-CALDESC:Events for SINGPromos.com
BEGIN:VEVENT
DTSTART:20120630T000000
DTEND:20120711T235900
DTSTAMP:20260420T074441
CREATED:20120701T012857
LAST-MODIFIED:20120712T112832
UID:36212@https://singpromos.com
SUMMARY:40% Off Samsung Galaxy S III / S II / Note Battery 1 Jul 2012
DESCRIPTION:Extend your phone's battery life with a high quality battery exclusively designed for your Samsung phone at almost half price with this deal: $16.80 instead of $28 for a Samsung Galaxy S III / S II / Note battery + Universal Charger + Normal Postage - that's 40% off the usual price! Learn how to get this deal before it ends soon. For more information, visit [ https://singpromos.com/mobile-phones/40-off-samsung-galaxy-s-iii-s-ii-note-battery-1-jul-2012-36212/ ]. 
LOCATION:
URL:https://singpromos.com/mobile-phones/40-off-samsung-galaxy-s-iii-s-ii-note-battery-1-jul-2012-36212/
END:VEVENT
END:VCALENDAR