BEGIN:VCALENDAR
PRODID:-//SINGPromos.com//NONSGML v1.0//EN
VERSION:2.0
CALSCALE:GREGORIAN
METHOD:PUBLISH
X-WR-CALNAME:SINGPromos.com
X-ORIGINAL-URL:https://singpromos.com
X-WR-CALDESC:Events for SINGPromos.com
BEGIN:VEVENT
DTSTART:20120701T000000
DTEND:20120731T235900
DTSTAMP:20260420T231748
CREATED:20120704T195453
LAST-MODIFIED:20120704T200054
UID:36446@https://singpromos.com
SUMMARY:Expedia Hotels 10% Off Coupon Code 1 - 31 Jul 2012
DESCRIPTION:Enjoy an ADDITIONAL 10% off with the discount coupon code below at Expedia.com.sg.. For more information, visit [ https://singpromos.com/vacations/expedia-hotels-10-off-coupon-code-1-31-jul-2012-36446/ ]. 
LOCATION:
URL:https://singpromos.com/vacations/expedia-hotels-10-off-coupon-code-1-31-jul-2012-36446/
END:VEVENT
END:VCALENDAR