BEGIN:VCALENDAR
PRODID:-//SINGPromos.com//NONSGML v1.0//EN
VERSION:2.0
CALSCALE:GREGORIAN
METHOD:PUBLISH
X-WR-CALNAME:SINGPromos.com
X-ORIGINAL-URL:https://singpromos.com
X-WR-CALDESC:Events for SINGPromos.com
BEGIN:VEVENT
DTSTART:20120705T000000
DTEND:20120715T235900
DTSTAMP:20260422T082131
CREATED:20120705T150902
LAST-MODIFIED:20120705T150902
UID:36495@https://singpromos.com
SUMMARY:Fashion Fast Forward End of Season Sale Up To 50% Off 5 - 15 Jul 2012
DESCRIPTION:Fashion Fast Forward's End of Season Sale kick starts from 5 July to 15 July 2012 with up to 50% off. Brands include Topshop, Topman, Dorothy Perkins, Miss Selfridge, Ben Sherman, Maxstudio.Com, Warehouse, Wallis and Karen Millen. For more information, visit [ https://singpromos.com/fashion-accessories/fashion-fast-forward-end-of-season-sale-up-to-50-off-5-15-jul-2012-36495/ ]. 
LOCATION:
URL:https://singpromos.com/fashion-accessories/fashion-fast-forward-end-of-season-sale-up-to-50-off-5-15-jul-2012-36495/
END:VEVENT
END:VCALENDAR