BEGIN:VCALENDAR
PRODID:-//SINGPromos.com//NONSGML v1.0//EN
VERSION:2.0
CALSCALE:GREGORIAN
METHOD:PUBLISH
X-WR-CALNAME:SINGPromos.com
X-ORIGINAL-URL:https://singpromos.com
X-WR-CALDESC:Events for SINGPromos.com
BEGIN:VEVENT
DTSTART:20120706T000000
DTEND:20120716T235900
DTSTAMP:20260420T231750
CREATED:20120706T114320
LAST-MODIFIED:20120706T115341
UID:36616@https://singpromos.com
SUMMARY:Zuji Singapore 10% Off Hotels Coupon Code 6 - 16 Jul 2012
DESCRIPTION:Enjoy an additional 10% off all hotels from 6 July to 16 July 2012 at www.zuji.com.sg with this coupon code. Minimum $300 spend required.. For more information, visit [ https://singpromos.com/vacations/zuji-singapore-10-off-hotels-coupon-code-6-16-jul-2012-36616/ ]. 
LOCATION:
URL:https://singpromos.com/vacations/zuji-singapore-10-off-hotels-coupon-code-6-16-jul-2012-36616/
END:VEVENT
END:VCALENDAR